BEGIN:VCALENDAR
VERSION:2.0
PRODID:-//eventon.com NONSGML v1.0//EN
CALSCALE:GREGORIAN
METHOD:PUBLISH
BEGIN:VEVENT
UID:69e782b0d61a0
DTSTAMP:20260421T135912Z
DTSTART:20220302T170000Z
DTEND:20220302T190000Z
LOCATION:
SUMMARY:Világvégre - Kiss Ádám önálló estje
DESCRIPTION:Felhívjuk látogatóink szíves figyelmét\,  hogy a MOMkult 
 pületében a maszkviselés kötelező! __________________________________
 ____________________________________________________ Engedd meg\,  hogy egy
  órára kiszakítsalak a világodból\,  és beszuszakoljalak az enyémbe.
  A boldog élet titka\,  hogy tudni kell magadban alkudozni az elvárásokk
 al. De a legjobb\,  ha nincsenek. Albániához képest Magyarország is egy
  Ausztria. Annyira megfordult a világ\, [..]\nhttps://momkult.hu/events/vi
 lagvegre-kiss-adam-onallo-estje/
URL:https://momkult.hu/events/vilagvegre-kiss-adam-onallo-estje/
END:VEVENT
END:VCALENDAR