BEGIN:VCALENDAR
VERSION:2.0
PRODID:-//eventon.com NONSGML v1.0//EN
CALSCALE:GREGORIAN
METHOD:PUBLISH
BEGIN:VEVENT
UID:69e796fa55151
DTSTAMP:20260421T152546Z
DTSTART:20220227T193000Z
DTEND:20220227T210000Z
LOCATION:
SUMMARY:KovÃ¡cs AndrÃ¡s PÃ©ter Ã¶nÃ¡llÃ³ estje
DESCRIPTION:FelhÃ­vjuk lÃ¡togatÃ³ink szÃ­ves figyelmÃ©t\,  hogy a MOMkult Ã
 ©pÃ¼letÃ©ben aÂ maszkviselÃ©s kÃ¶telezÅ‘! _________________________________
 _____________________________________________________ Az anyÃ³sÃ¼lÃ©sbe hup
 panni a villamosrÃ³l azt jelenti: luxus\,  kÃ©nyelem\,  egyÃ©ni tÃ¶rÅ‘dÃ©s\
 ,  tempÃ³. Az anyÃ³sÃ¼lÃ©sbe huppanni a volÃ¡n mÃ¶gÃ¼l azt jelenti: kontrol
 lvesztÃ©s\,  bizonytalansÃ¡g\,  lefokozÃ¡s\,  kudarc. MÃ¡rpedig 2020-21 oly
 an idÅ‘szak volt\,  mikor elÃ©g keveset volt nÃ¡lam a volÃ¡n. Ezen az elÅ‘a
 dÃ¡son[..]\nhttps://momkult.hu/events/anyosules-kovacs-andras-peter-onallo-
 estje-20-30/
URL:https://momkult.hu/events/anyosules-kovacs-andras-peter-onallo-estje-20-30/
END:VEVENT
END:VCALENDAR