BEGIN:VCALENDAR
VERSION:2.0
PRODID:-//eventon.com NONSGML v1.0//EN
CALSCALE:GREGORIAN
METHOD:PUBLISH
BEGIN:VEVENT
UID:69e7ab7169939
DTSTAMP:20260421T165305Z
DTSTART:20220129T180000Z
DTEND:20220129T210000Z
LOCATION:
SUMMARY:Domokos LÃ¡szlÃ³
DESCRIPTION:FelhÃ­vjuk lÃ¡togatÃ³ink szÃ­ves figyelmÃ©t\,  hogy a MOMkult Ã
 ©pÃ¼letÃ©ben a maszkviselÃ©s kÃ¶telezÅ‘! __________________________________
 ______________________________________________________ A szÃ©kely lÃ©lek an
 atÃ³miÃ¡jÃ¡t boncolgatom tipikus szÃ©kely humorral\,  az elÅ‘adÃ¡sban csalÃ
 ¡di tÃ¶rtÃ©netek\,  megtÃ¶rtÃ©nt esemÃ©nyek Ã©s rablÃ³mesÃ©k vÃ¡ltogatjÃ¡k 
 egymÃ¡st. Ha minden jÃ³l megy\,  akkor 1 Ã³rÃ¡ra elutazunk gyerekkorom hely
 szÃ­neire: CsÃ­kba\,  KomondÃ³ra\,  a GyÃ­mesekbe\,  s ha nem vigyÃ¡znak\, 
  fenn alszunk[..]\nhttps://momkult.hu/events/domokos-laszlo-szekely-stand-u
 p-januar-29/
URL:https://momkult.hu/events/domokos-laszlo-szekely-stand-up-januar-29/
END:VEVENT
END:VCALENDAR