BEGIN:VCALENDAR
VERSION:2.0
PRODID:-//eventon.com NONSGML v1.0//EN
CALSCALE:GREGORIAN
METHOD:PUBLISH
BEGIN:VEVENT
UID:69eb8b61374a8
DTSTAMP:20260424T152521Z
DTSTART:20181102T190000Z
DTEND:20181102T210000Z
LOCATION:
SUMMARY:KFT
DESCRIPTION:Az évekkel ezelőtt elkezdett sorozat\,  amelyben a KFT zeneka
 r újra bemutatja eddigi albumait\,  ezúttal a MOMkultban folytatódik. A 
 koncert különlegessége\,  hogy ezúttal a lemezről minden dal elhangzi
 k. “A bábu visszavág” CD 2008-ban dupla platinalemez lett. Vendégek:
  Waldorf Diákkórus Bencze László vezetésével és Laár Dávid\nhttps:
 //momkult.hu/events/kft/
URL:https://momkult.hu/events/kft/
END:VEVENT
END:VCALENDAR