BEGIN:VCALENDAR
VERSION:2.0
PRODID:-//eventon.com NONSGML v1.0//EN
CALSCALE:GREGORIAN
METHOD:PUBLISH
BEGIN:VEVENT
UID:69e7e7a5b45f5
DTSTAMP:20260421T210957Z
DTSTART:20211201
DTEND:20211202
LOCATION:
SUMMARY:Adventi kiállítás
DESCRIPTION:2021. december 28-ig a Sirály sétányon és a Reich Károly g
 alériában karácsonyi hangulatot megidéző fotók láthatók.\nhttps://m
 omkult.hu/events/adventi-kiallitas/
URL:https://momkult.hu/events/adventi-kiallitas/
END:VEVENT
END:VCALENDAR