BEGIN:VCALENDAR
VERSION:2.0
PRODID:-//eventon.com NONSGML v1.0//EN
CALSCALE:GREGORIAN
METHOD:PUBLISH
BEGIN:VEVENT
UID:69e7bc7ab195d
DTSTAMP:20260421T180546Z
DTSTART:20211228T100000Z
DTEND:20211228T104000Z
LOCATION:
SUMMARY:PR-Evolution Dance Company: Bíborka
DESCRIPTION:Egyszer volt\,  hol nem volt\,  volt egyszer három testvér\, 
  Dorka\,  Borka és Bíborka. Dorka és Borka mindenből tudtak játékot c
 sinálni\,  még a szanaszét dobált poharakból és palackokból is. Bíb
 orka kedvenc játéka csak Alfréd a láma volt. A lányok álomvilág-be
 li kalandjain keresztül megjelenik előttünk egy amerikai préri kutya\, 
  egy lilaszínben pompázó lazac és egy cuki[..]\nhttps://momkult.hu/ev
 ents/pr-evolution-dance-company-biborka/
URL:https://momkult.hu/events/pr-evolution-dance-company-biborka/
END:VEVENT
END:VCALENDAR