BEGIN:VCALENDAR
VERSION:2.0
PRODID:-//eventon.com NONSGML v1.0//EN
CALSCALE:GREGORIAN
METHOD:PUBLISH
BEGIN:VEVENT
UID:69e782b0106ad
DTSTAMP:20260421T135912Z
DTSTART:20220312T183000Z
DTEND:20220312T203000Z
LOCATION:
SUMMARY:SZENT EFRÉM FÉRFIKAR XX
DESCRIPTION:Azon programoknál\,  ahol a helyszín sajátosságai miatt nem
  tartható a látogatók közötti másfél méter\,  továbbra is ajánlju
 k a maszk viselését. ____________________________________________________
 __________________________________ 20 éves a Szent Efrém Férfikar. A jub
 ileumi év tiszteletére új programmal készül Magyarország egyik legné
 pszerűbb vokális együttese – ennek egyik jelentős állomása a MOMKul
 tban megrendezett nagykoncert\,  ahol az[..]\nhttps://momkult.hu/events/sze
 nt-efrem-ferfikar-xx/
URL:https://momkult.hu/events/szent-efrem-ferfikar-xx/
END:VEVENT
END:VCALENDAR