BEGIN:VCALENDAR
VERSION:2.0
PRODID:-//eventon.com NONSGML v1.0//EN
CALSCALE:GREGORIAN
METHOD:PUBLISH
BEGIN:VEVENT
UID:69e7ac4abeca7
DTSTAMP:20260421T165642Z
DTSTART:20220126T193000Z
DTEND:20220126T210000Z
LOCATION:
SUMMARY:Kolera a Vackor csoportban - BÃ¶dÅ‘cs Tibor Ã¶nÃ¡llÃ³ estje
DESCRIPTION:FelhÃ­vjuk lÃ¡togatÃ³ink szÃ­ves figyelmÃ©t\,  hogy a MOMkult Ã
 ©pÃ¼letÃ©ben a maszkviselÃ©s kÃ¶telezÅ‘! &#8212;&#8212;&#8212;&#8212;&#8212
 ;&#8212;&#8212;&#8212;&#8212;&#8212;&#8212;&#8212;&#8212;&#8212;&#8212;&#82
 12;&#8212;&#8212;&#8212;&#8212;&#8212;&#8212;&#8212;&#8212;&#8212;&#8212;&#
 8212;&#8212;&#8212;&#8212;&#8212;&#8212;&#8212;&#8212;&#8212;&#8212;&#8212;
 &#8212;&#8212;&#8212;&#8212;&#8212;&#8212;&#8212;&#8212;&#8212;&#8212;&#821
 2;&#8212;&#8212;&#8212;&#8212;&#8211; &#8222;Az emberisÃ©g nagy kÃ©rdÃ©seir
 Å‘l Ã©s a hÃ©tkÃ¶znapok prÃ³zai\,  kis pillanatairÃ³l fog szÃ³lni a mÅ±sor.
  Nagyon korai mÃ©g errÅ‘l bÃ¡rmit mondani. ArrÃ³l fogok beszÃ©lni\,  ami ak
 kor a legjobban foglalkoztat majd.&#8221; DumaszÃ­nhÃ¡z est I elÅ‘zenekar: 
 TÃ³th Edu\nhttps://momkult.hu/events/kolera-a-vackor-csoportban-bodocs-tibo
 r-onallo-estje-20-30/
URL:https://momkult.hu/events/kolera-a-vackor-csoportban-bodocs-tibor-onallo-estje-20-30/
END:VEVENT
END:VCALENDAR