BEGIN:VCALENDAR
VERSION:2.0
PRODID:-//eventon.com NONSGML v1.0//EN
CALSCALE:GREGORIAN
METHOD:PUBLISH
BEGIN:VEVENT
UID:69e797be70767
DTSTAMP:20260421T152902Z
DTSTART:20220224T183000Z
DTEND:20220224T203000Z
LOCATION:
SUMMARY:Cziffra FesztivÃ¡l | PÃ¡l IstvÃ¡n Szalonna Ã©s BandÃ¡ja
DESCRIPTION:FelhÃ­vjuk lÃ¡togatÃ³ink szÃ­ves figyelmÃ©t\,  hogy a MOMkult Ã
 ©pÃ¼letÃ©ben aÂ maszkviselÃ©s kÃ¶telezÅ‘! A KÃ¡rpÃ¡t-medence nÃ©pzenÃ©je cs
 odÃ¡latos vilÃ¡g\,  amelyben bÃ¡rki talÃ¡lhat szÃ­vÃ©nek-lelkÃ©nek tetszÅ‘ 
 dallamokat. A szÃ¶vegekben milliÃ³k sorsa jelenik meg\,  hiszen a rÃ©giek m
 inden Ã©letesemÃ©nyÃ¼ket\,  minden fellÃ¡ngolÃ³ Ã©rzelmÃ¼ket dalban Ã©nekel
 tÃ©k meg. SzÃ³lnak a nÃ³tÃ¡k szÃ¼letÃ©srÅ‘l\,  Ã¼nnepekrÅ‘l\,  hitrÅ‘l\,  s
 zerelemrÅ‘l\,  Ã©s Ã©letÃ¼nknek mÃ©g szÃ¡mos olyan[..]\nhttps://momkult.hu/
 events/pal-istvan-szalonna-es-bandaja/
URL:https://momkult.hu/events/pal-istvan-szalonna-es-bandaja/
END:VEVENT
END:VCALENDAR