BEGIN:VCALENDAR
VERSION:2.0
PRODID:-//eventon.com NONSGML v1.0//EN
CALSCALE:GREGORIAN
METHOD:PUBLISH
BEGIN:VEVENT
UID:69eb8846b4ecf
DTSTAMP:20260424T151206Z
DTSTART:20181031T193000Z
DTEND:20181031T210000Z
LOCATION:
SUMMARY:RÃ¡kfogÃ³ | Szakcsi 75
DESCRIPTION:Szakcsi Lakatos BÃ©la idÃ©n jÃºliusban tÃ¶ltÃ¶tte be 75. Ã©letÃ
 ©vÃ©t. A 60 Ã©vvel ezelÅ‘tt szÃ­npadra lÃ©pÅ‘ mÅ±vÃ©sz a Momkultban egy kÃ¼
 lÃ¶nleges koncerttel Ã¼nnepel a RÃ¡kfogÃ³ zenekarral. Ãœnnepel s egyben eml
 Ã©kezik. Babos Gyula\,  a RÃ¡kfogÃ³ zenekar egyik alapÃ­tÃ³ tagja Ã¡prilisb
 an elhunyt. A koncert egyben tisztelgÃ©s Ã©s elismerÃ©s a mÅ±vÃ©sz szemÃ©ly
 isÃ©ge Ã©s munkÃ¡ssÃ¡ga[..]\nhttps://momkult.hu/events/rakfogo-szakcsi-75/
URL:https://momkult.hu/events/rakfogo-szakcsi-75/
END:VEVENT
END:VCALENDAR