BEGIN:VCALENDAR
VERSION:2.0
PRODID:-//eventon.com NONSGML v1.0//EN
CALSCALE:GREGORIAN
METHOD:PUBLISH
BEGIN:VEVENT
UID:69e76e91b7fea
DTSTAMP:20260421T123321Z
DTSTART:20220401T180000Z
DTEND:20220331T220000Z
LOCATION:
SUMMARY:ZURGÓ TÁNCHÁZ
DESCRIPTION:Azon programoknál\,  ahol a helyszín sajátosságai miatt nem
  tartható a látogatók közötti másfél méter\,  továbbra is ajánlju
 k a maszk viselését. ____________________________________________________
 ___________________________________ Moldvai csángó népzene\,  tánctaní
 tás\,  daltanítás. Szeretettel várjuk régi és új ismerőseinket\,  b
 arátainkat\,  a Zurgó Együttes moldvai csángó magyar táncházába. F
 elnőtt táncház20:00-21:00 | tánctanítás  21:00-22:00 | táncház 22:
 00-22:20 | énektanulás\,  közös[..]\nhttps://momkult.hu/events/zurgo-ta
 nchaz-aprilis/
URL:https://momkult.hu/events/zurgo-tanchaz-aprilis/
END:VEVENT
END:VCALENDAR