BEGIN:VCALENDAR
VERSION:2.0
PRODID:-//eventon.com NONSGML v1.0//EN
CALSCALE:GREGORIAN
METHOD:PUBLISH
BEGIN:VEVENT
UID:69eb8b765b981
DTSTAMP:20260424T152542Z
DTSTART:20181027T190000Z
DTEND:20181027T210000Z
LOCATION:
SUMMARY:Firkin 10
DESCRIPTION:A 10 éves Firkin jubileumi koncertje. Jubileumi koncertKarács
 ony János | LGT Németh Lojzi | Bikini Szabó Gergely “Szög” | Dalria
 da Sárhidai Zsuzsanna | ex-Firkin Marczis Attila | ex-Firkin\nhttps://momk
 ult.hu/events/firkin-10/
URL:https://momkult.hu/events/firkin-10/
END:VEVENT
END:VCALENDAR