BEGIN:VCALENDAR
VERSION:2.0
PRODID:-//eventon.com NONSGML v1.0//EN
CALSCALE:GREGORIAN
METHOD:PUBLISH
BEGIN:VEVENT
UID:69e7aad640d4d
DTSTAMP:20260421T165030Z
DTSTART:20220121T180000Z
DTEND:20220121T200000Z
LOCATION:
SUMMARY:A magyar kultúra napja I Giuoco Piano
DESCRIPTION:Tisztelt Látogatóink! A magyar kultúra napja tiszteletére m
 eghívott Ifjú Szivek Táncszínház tánckara a járványügyi helyzet k
 edvezőtlen alakulása miatt nem tud fellépni a MOMkultban. A Saját any
 ag c. előadás helyett az együttes vonósnégyese Giuoco Piano c. leme
 zének magyarországi színpadi premierjére kerül sor január 21-én. Ifj
 ú Szivek Táncszínház vonósnégyese: Giuoco Piano Az Ifjú Szivek Tánc
 színház alkotóműhelyében friss gondolatok és[..]\nhttps://momkult.hu
 /events/a-magyar-kultura-napja-ifju-szivek-musorvaltozas/
URL:https://momkult.hu/events/a-magyar-kultura-napja-ifju-szivek-musorvaltozas/
END:VEVENT
END:VCALENDAR