BEGIN:VCALENDAR
VERSION:2.0
PRODID:-//eventon.com NONSGML v1.0//EN
CALSCALE:GREGORIAN
METHOD:PUBLISH
BEGIN:VEVENT
UID:69e7d1ceeb7f3
DTSTAMP:20260421T193646Z
DTSTART:20211201T170000Z
DTEND:20211201T183000Z
LOCATION:
SUMMARY:Hitel-est Utassy József díjátadó 2021
DESCRIPTION:Felhívjuk látogatóink szíves figyelmét\,  hogy a MOMkult 
 pületében a maszkviselés kötelező! LÍRAI PENTATÓNIA Ágh István\,
   Döbrentei Kornél\,  Falusi Márton\,  Karkó Ádám\,  Nagy Gábor mond
 ja saját verseit. Utassy József díjátadó 2021\nhttps://momkult.hu/even
 ts/hitel-est-utassy-jozsef-dijatado/
URL:https://momkult.hu/events/hitel-est-utassy-jozsef-dijatado/
END:VEVENT
END:VCALENDAR