BEGIN:VCALENDAR
VERSION:2.0
PRODID:-//eventon.com NONSGML v1.0//EN
CALSCALE:GREGORIAN
METHOD:PUBLISH
BEGIN:VEVENT
UID:69e7ac4a49294
DTSTAMP:20260421T165642Z
DTSTART:20220126T170000Z
DTEND:20220126T183000Z
LOCATION:
SUMMARY:Kolera a Vackor csoportban - BÃ¶dÅ‘cs Tibor Ã¶nÃ¡llÃ³ estje
DESCRIPTION:FelhÃ­vjuk lÃ¡togatÃ³ink szÃ­ves figyelmÃ©t\,  hogy a MOMkult Ã
 ©pÃ¼letÃ©ben a maszkviselÃ©s kÃ¶telezÅ‘! &#8212;&#8212;&#8212;&#8212;&#8212
 ;&#8212;&#8212;&#8212;&#8212;&#8212;&#8212;&#8212;&#8212;&#8212;&#8212;&#82
 12;&#8212;&#8212;&#8212;&#8212;&#8212;&#8212;&#8212;&#8212;&#8212;&#8212;- 
 &#8222;Az emberisÃ©g nagy kÃ©rdÃ©seirÅ‘l Ã©s a hÃ©tkÃ¶znapok prÃ³zai\,  kis
  pillanatairÃ³l fog szÃ³lni a mÅ±sor. Nagyon korai mÃ©g errÅ‘l bÃ¡rmit mond
 ani. ArrÃ³l fogok beszÃ©lni\,  ami akkor a legjobban foglalkoztat majd.&#82
 21; DumaszÃ­nhÃ¡z est I elÅ‘zenekar: TÃ³th Edu\nhttps://momkult.hu/events/k
 olera-a-vackor-csoportban-bodocs-tibor-onallo-estje-5/
URL:https://momkult.hu/events/kolera-a-vackor-csoportban-bodocs-tibor-onallo-estje-5/
END:VEVENT
END:VCALENDAR