BEGIN:VCALENDAR
VERSION:2.0
PRODID:-//eventon.com NONSGML v1.0//EN
CALSCALE:GREGORIAN
METHOD:PUBLISH
BEGIN:VEVENT
UID:69e7d22d947e1
DTSTAMP:20260421T193821Z
DTSTART:20211215T170000Z
DTEND:20211215T200000Z
LOCATION:
SUMMARY:MennybÅ‘l az angyal workshop
DESCRIPTION:FelhÃ­vjuk lÃ¡togatÃ³ink szÃ­ves figyelmÃ©t\,  hogy a MOMkult Ã
 ©pÃ¼letÃ©ben a maszkviselÃ©s kÃ¶telezÅ‘! A karÃ¡csonyi Ã¼nnepek kÃ¶zeledtÃ©
 vel angyalkÃ¡s kollÃ¡zsok kÃ©szÃ­tÃ©sÃ©re lesz alkalom a DodÃ³Art kÃ¶vetkez
 Å‘ workshopjÃ¡n! A workshop sorÃ¡n a foglakozÃ¡st vezetÅ‘ Ã¡ltal tervezett 
 nyomtatott lapok\,  sablonok Ã©s kompozÃ­ciÃ³s tÃ©rkÃ©pek\,  valamint dekor
 atÃ­v papÃ­rok Ã©s minden egyÃ©b dÃ­szÃ­tÃ©shez szÃ¼ksÃ©ges kellÃ©kek Ã¡lln
 ak rendelkezÃ©sre â€“[..]\nhttps://momkult.hu/events/mennybol-az-angyal/
URL:https://momkult.hu/events/mennybol-az-angyal/
END:VEVENT
END:VCALENDAR