BEGIN:VCALENDAR
VERSION:2.0
PRODID:-//eventon.com NONSGML v1.0//EN
CALSCALE:GREGORIAN
METHOD:PUBLISH
BEGIN:VEVENT
UID:69e7d0e177532
DTSTAMP:20260421T193249Z
DTSTART:20211213T190000Z
DTEND:20211213T210000Z
LOCATION:
SUMMARY:CRISTINA BRANCO
DESCRIPTION:Tájékoztatjuk látogatóinkat\,  hogy a december 13-i Cristi
 na Branco koncert elhalasztva\,  későbbi időpontban kerül megtartásra.
  Észrevételeikkel és további információkért\,  kérjük\,  forduljan
 ak a koncertet szervező cég felé: Get Closer Concerts Kft. hello@getclos
 erconcerts.com Együttműködésüket és megértésüket megköszönve\,  
 MOMkult &#8212;&#8212;&#8212;&#8212;&#8212;&#8212;&#8212;&#8212;&#8212;&#82
 12;&#8212;&#8212;&#8212;&#8212;&#8212;&#8212;&#8212;&#8212;&#8212;&#8212;&#
 8212;&#8212;&#8212;&#8212;&#8212;&#8212;&#8212;&#8212;&#8212;&#8212;&#8212;
 &#8212;&#8212;&#8212;&#8212;&#8212;&#8212;&#8212;&#8212;&#8212;&#8212;&#821
 2;&#8212;&#8212;&#8212;&#8212;&#8212;&#8212;&#8212;&#8212;&#8211; Felhívju
 k látogatóink szíves figyelmét\,  hogy a MOMkult épületében a maszkv
 iselés kötelező! Cristina Brancót kezdetben a[..]\nhttps://momkult.hu/e
 vents/cristina-branco-2/
URL:https://momkult.hu/events/cristina-branco-2/
END:VEVENT
END:VCALENDAR