BEGIN:VCALENDAR
VERSION:2.0
PRODID:-//eventon.com NONSGML v1.0//EN
CALSCALE:GREGORIAN
METHOD:PUBLISH
BEGIN:VEVENT
UID:69e7a8d139f7f
DTSTAMP:20260421T164153Z
DTSTART:20220120T180000Z
DTEND:20220120T193000Z
LOCATION:
SUMMARY:A magyar kultÃºra napja I Gryllus
DESCRIPTION:FelhÃ­vjuk lÃ¡togatÃ³ink szÃ­ves figyelmÃ©t\,  hogy a MOMkult Ã
 ©pÃ¼letÃ©ben aÂ maszkviselÃ©s kÃ¶telezÅ‘! A Gryllus testvÃ©rek estje a kult
 Ãºra napjÃ¡n MÅ±soron rÃ©gi Ã©s mai magyar kÃ¶ltÅ‘k\,  KÃ¶lcsey Ferenc\,  A
 rany JÃ¡nos\,  Ady Endre\,  KosztolÃ¡nyi DezsÅ‘\,  KÃ¡nyÃ¡di SÃ¡ndor\,  Sza
 bÃ³ T. Anna\,  TÃ³th Krisztina&#8230; Ã©s a harminchÃ¡rom Ã©ve meghalt WeÃ¶
 res SÃ¡ndorÂ  Ã©nekelt versei. TovÃ¡bbi rendezvÃ©nyek a[..]\nhttps://momkul
 t.hu/events/magyar-kultura-napja-2/
URL:https://momkult.hu/events/magyar-kultura-napja-2/
END:VEVENT
END:VCALENDAR