BEGIN:VCALENDAR
VERSION:2.0
PRODID:-//eventon.com NONSGML v1.0//EN
CALSCALE:GREGORIAN
METHOD:PUBLISH
BEGIN:VEVENT
UID:69e7bbd8a6a96
DTSTAMP:20260421T180304Z
DTSTART:20220103T180000Z
DTEND:20220103T200000Z
LOCATION:
SUMMARY:Chameleon Jazz Band
DESCRIPTION:Felhívjuk látogatóink szíves figyelmét\,  hogy a MOMkult 
 pületében a maszkviselés kötelező! A Chameleon Jazz Band hagyományos
  újévi koncertje vadonatúj dalokkal\,  régi kedvencekkel és meglepet
 sekkel a MOM Kulturális Központ különleges akusztikájú Kupolatermé
 ben 2022. január 3-án\,  hétfőn\,  este 7 órakor! Happy 2022Művészet
 i vezető: Bálint Rezső Bálint Rezső &#8211; harsona\,  ének Birinyi M
 árk Ádám &#8211;[..]\nhttps://momkult.hu/events/chameleon-jazz-band/
URL:https://momkult.hu/events/chameleon-jazz-band/
END:VEVENT
END:VCALENDAR