BEGIN:VCALENDAR
VERSION:2.0
PRODID:-//eventon.com NONSGML v1.0//EN
CALSCALE:GREGORIAN
METHOD:PUBLISH
BEGIN:VEVENT
UID:69e7d1ea4dd81
DTSTAMP:20260421T193714Z
DTSTART:20211212T100000Z
DTEND:20211212T120000Z
LOCATION:
SUMMARY:Ãœnnep\,  hogyha Ã©rzem I FarkashÃ¡zi RÃ©ka Ã©s a TintanyÃºl
DESCRIPTION:FelhÃ­vjuk lÃ¡togatÃ³ink szÃ­ves figyelmÃ©t\,  hogy a MOMkult Ã
 ©pÃ¼letÃ©ben a maszkviselÃ©s kÃ¶telezÅ‘! KarÃ¡csonyvÃ¡rÃ³ csalÃ¡di koncert 
 a 15. szÃ¼linapjÃ¡t Ã¼nneplÅ‘\,  kÃ©tszeres Fonogram-dÃ­jas FarkashÃ¡zi RÃ©
 ka Ã©s a TintanyÃºl zenekarral\,  ahol kiderÃ¼l\,  hogyan kÃ©szÃ¼l aÂ MÃ©ze
 skalÃ¡cs\,  hogy bennÃ¼nk van azÂ Igazi karÃ¡csony\,  Ã©s mindig ott van az
 Â Ãœnnep\,  hogyha Ã©rzem. Minden csalÃ¡dot tÃ¡ncra csÃ¡bÃ­t majd aÂ TÃ©li 
 szamba\, [..]\nhttps://momkult.hu/events/unnep-hogyha-erzem-farkashazi-reka
 -es-a-tintanyul-11-00/
URL:https://momkult.hu/events/unnep-hogyha-erzem-farkashazi-reka-es-a-tintanyul-11-00/
END:VEVENT
END:VCALENDAR