BEGIN:VCALENDAR
VERSION:2.0
PRODID:-//eventon.com NONSGML v1.0//EN
CALSCALE:GREGORIAN
METHOD:PUBLISH
BEGIN:VEVENT
UID:69e733555200d
DTSTAMP:20260421T082037Z
DTSTART:20220530T170000Z
DTEND:20220530T190000Z
LOCATION:
SUMMARY:80 Ã‰VES BARBRA STREISAND
DESCRIPTION:TÃ¡jÃ©koztatjuk lÃ¡togatÃ³inkat\,  hogy a 2022. mÃ¡jus 22-i &#8
 222;80 Ã©ves Barbra Streisand&#8221; koncert elhalasztva\,  kÃ©sÅ‘bbi idÅ‘p
 ontban 2022. mÃ¡jus 30-Ã¡n kerÃ¼l megtartÃ¡sra a Kupolateremben. __________
 ___________________________________________________________________________
 __ Azon programoknÃ¡l\,  ahol a helyszÃ­n sajÃ¡tossÃ¡gai miatt nem tarthatÃ
 ³ a lÃ¡togatÃ³k kÃ¶zÃ¶tti mÃ¡sfÃ©l mÃ©ter\,  tovÃ¡bbra is ajÃ¡nljuk a maszk
  viselÃ©sÃ©t. _____________________________________________________________
 __________________________ A kÃ©tszeres Oscar-dÃ­jas\,  hÃ¡romszoros Golden
  Globe-dÃ­jas[..]\nhttps://momkult.hu/events/80-eves-barbra-streisand/
URL:https://momkult.hu/events/80-eves-barbra-streisand/
END:VEVENT
END:VCALENDAR