BEGIN:VCALENDAR
VERSION:2.0
PRODID:-//eventon.com NONSGML v1.0//EN
CALSCALE:GREGORIAN
METHOD:PUBLISH
BEGIN:VEVENT
UID:69e7bc31d6e68
DTSTAMP:20260421T180433Z
DTSTART:20211222T180000Z
DTEND:20211222T210000Z
LOCATION:
SUMMARY:Domokos László: Székely Stand Up
DESCRIPTION:Tisztelt látogatóink! Tájékoztatjuk Önöket\,  hogy a 2021
 . december 22-én megrendezésre kerülő Székely Stand Up betegség miatt
  új időpontban\,  2022. január 29-én lesz megtartva! A megvásárolt je
 gyek erre az előadásra is érvényesek. Megértésüket köszönjük! ___
 ___________________________________________________________________________
 __________ &nbsp; Felhívjuk látogatóink szíves figyelmét\,  hogy a MOM
 kult épületében a maszkviselés kötelező! A székely lélek anatómiá
 ját[..]\nhttps://momkult.hu/events/domokos-laszlo-szekely-stand-up-decembe
 r-22/
URL:https://momkult.hu/events/domokos-laszlo-szekely-stand-up-december-22/
END:VEVENT
END:VCALENDAR