BEGIN:VCALENDAR
VERSION:2.0
PRODID:-//eventon.com NONSGML v1.0//EN
CALSCALE:GREGORIAN
METHOD:PUBLISH
BEGIN:VEVENT
UID:69eb9e7c05b81
DTSTAMP:20260424T164652Z
DTSTART:20181024T170000Z
DTEND:20181024T183000Z
LOCATION:
SUMMARY:Nincs idő gólörömre | Bödőcs Tibor
DESCRIPTION:A Bucsuszentlászlói Kerekasztal alapító lovagja\,  aki szí
 nésznek készült\,  magyar tanárnak tanult\,  majd humorista lett. Szere
 ncsénkre. Háta mögött sokáig kis-Hofiként emlegették\,  de már ninc
 s szüksége ilyen jelzőkre\,  a közönség saját magáért szereti. A m
 inőségre törekvő humor-cowboy makacsnak és önfejűnek tartja magát. 
 Nem dolgozik csapatban\,  nem szereti a Csillagok Háborúját\,  de bárm
 ikor van[..]\nhttps://momkult.hu/events/nincs-ido-goloromre-bodocs-tibor-10
 24/
URL:https://momkult.hu/events/nincs-ido-goloromre-bodocs-tibor-1024/
END:VEVENT
END:VCALENDAR