BEGIN:VCALENDAR
VERSION:2.0
PRODID:-//eventon.com NONSGML v1.0//EN
CALSCALE:GREGORIAN
METHOD:PUBLISH
BEGIN:VEVENT
UID:69e7bc31d6e68
DTSTAMP:20260421T180433Z
DTSTART:20211226T180000Z
DTEND:20211226T200000Z
LOCATION:
SUMMARY:Cotton Club Singers I HanukAkusztik koncert
DESCRIPTION:FelhÃ­vjuk lÃ¡togatÃ³ink szÃ­ves figyelmÃ©t\,  hogy a MOMkult Ã
 ©pÃ¼letÃ©ben a maszkviselÃ©s kÃ¶telezÅ‘! A Cotton Club Singers idÃ©n Ã¼nnep
 elte fennÃ¡llÃ¡sÃ¡nak 25. Ã©vfordulÃ³jÃ¡t. Ez alkalombÃ³l most Budapesten e
 gy olyan exkluzÃ­v koncerttel kedveskedik a fÅ‘vÃ¡rosi kÃ¶zÃ¶nsÃ©gnek\,  am
 i merÅ‘ben mÃ¡s lesz mint az eddig megszokottak. A ZsiMÃ¼ felkÃ©rÃ©sÃ©re un
 plugged jelleggel mutatja be a legnagyobb slÃ¡gereit\, [..]\nhttps://momkul
 t.hu/events/cotton-club-singers-hanukakusztik-koncert/
URL:https://momkult.hu/events/cotton-club-singers-hanukakusztik-koncert/
END:VEVENT
END:VCALENDAR