BEGIN:VCALENDAR
VERSION:2.0
PRODID:-//eventon.com NONSGML v1.0//EN
CALSCALE:GREGORIAN
METHOD:PUBLISH
BEGIN:VEVENT
UID:69e7d1e00b600
DTSTAMP:20260421T193704Z
DTSTART:20211209T183000Z
DTEND:20211209T203000Z
LOCATION:
SUMMARY:Kováts Kriszta - Biblia Show
DESCRIPTION:Felhívjuk látogatóink szíves figyelmét\,  hogy a MOMkult 
 pületében a maszkviselés kötelező! A korábban megváltott jegyek az 
 időpontban és helyszínen érvényesek lesznek. „A jövő mindig mások
 é. Vándorlunk negyven-ötven évig – hogy végre megláthassuk egyszer 
 majd az Ígéret földjét. A jövő mindig másoké. Elélünk hetven-nyol
 cvan évig – és aztán nem hallunk\,  csak[..]\nhttps://momkult.hu/event
 s/kovats-kriszta-biblia-show/
URL:https://momkult.hu/events/kovats-kriszta-biblia-show/
END:VEVENT
END:VCALENDAR