BEGIN:VCALENDAR
VERSION:2.0
PRODID:-//eventon.com NONSGML v1.0//EN
CALSCALE:GREGORIAN
METHOD:PUBLISH
BEGIN:VEVENT
UID:69eb9e39135da
DTSTAMP:20260424T164545Z
DTSTART:20181021T190000Z
DTEND:20181021T203000Z
LOCATION:
SUMMARY:Nostradamus | Solaris
DESCRIPTION:Folytatódik a SOLARIS együttes 2013-ben indított életmű-so
 rozata. 1998-ban\,  20 évvel ezelőtt kezdett el dolgozni a Solaris Együt
 tes egy nagyívű\,  azóta kultikussá vált és nemzetközi sikert elért
  koncept-albumon\,  a NOSTRADAMUS &#8211; Próféciák Könyvén.  A leme
 z élő bemutatója a mexikói Monterreyben volt. Most\,  a 20 éves jubile
 um tiszteletére a zenekar számos közreműködővel\,  az[..]\nhttps://mo
 mkult.hu/events/nostradamus-solaris/
URL:https://momkult.hu/events/nostradamus-solaris/
END:VEVENT
END:VCALENDAR