BEGIN:VCALENDAR
VERSION:2.0
PRODID:-//eventon.com NONSGML v1.0//EN
CALSCALE:GREGORIAN
METHOD:PUBLISH
BEGIN:VEVENT
UID:69eb9e8fee1d8
DTSTAMP:20260424T164711Z
DTSTART:20181021T150000Z
DTEND:20181021T180000Z
LOCATION:
SUMMARY:Nosztalgia társastánc
DESCRIPTION:Tánc nosztalgikus dallamokra. Minden alkalommal táncbemutató
  nyugdíjas\,  amatőr táncosokkal. Standard táncok\,  latin táncok\,  s
 wing\,  rock ’n’ roll. Táncbemutatók között és után: össztánc!\
 nhttps://momkult.hu/events/nosztalgia-tarsastanc-1021/
URL:https://momkult.hu/events/nosztalgia-tarsastanc-1021/
END:VEVENT
END:VCALENDAR