BEGIN:VCALENDAR
VERSION:2.0
PRODID:-//eventon.com NONSGML v1.0//EN
CALSCALE:GREGORIAN
METHOD:PUBLISH
BEGIN:VEVENT
UID:69eb9ddc3b56f
DTSTAMP:20260424T164412Z
DTSTART:20181020T180000Z
DTEND:20181020T200000Z
LOCATION:
SUMMARY:Kellemes húsvéti ünnepeket! | Jean Poiret
DESCRIPTION:Jean Poiret és Georges Lautner forgatókönyvéből készült 
 1984-ben a francia filmgyártás egyik legnagyobb sikere Sophie Marceau és
  Jean-Paul Belmondo főszereplésével. A történet a húsvéti szünetben
  játszódik. A Casanova életmódot folytató francia iparmágnás épp a 
 feleségét vitte ki a reptérre. Hazafelé felvesz egy csinos stoppos lán
 yt\,  aki éppen szakított a barátjával\, [..]\nhttps://momkult.hu/event
 s/kellemes-husveti-unnepeket-jean-poiret-1020/
URL:https://momkult.hu/events/kellemes-husveti-unnepeket-jean-poiret-1020/
END:VEVENT
END:VCALENDAR