BEGIN:VCALENDAR
VERSION:2.0
PRODID:-//eventon.com NONSGML v1.0//EN
CALSCALE:GREGORIAN
METHOD:PUBLISH
BEGIN:VEVENT
UID:69e7f96f82292
DTSTAMP:20260421T222551Z
DTSTART:20211102T170000Z
DTEND:20211102T183000Z
LOCATION:
SUMMARY:Hitel-est
DESCRIPTION:&#8222;Bécsben helyesen ítélik meg a művészek helyét és 
 az irántuk meglevő érdeklődést\,  ami más\,  mint nálunk.&#8221; /Re
 ha György/ Bezzeg Bécsben...Isó M. Emese Reha György Ferenczy Bálint\n
 https://momkult.hu/events/hitel-est-bezzeg-becsben/
URL:https://momkult.hu/events/hitel-est-bezzeg-becsben/
END:VEVENT
END:VCALENDAR