BEGIN:VCALENDAR
VERSION:2.0
PRODID:-//eventon.com NONSGML v1.0//EN
CALSCALE:GREGORIAN
METHOD:PUBLISH
BEGIN:VEVENT
UID:69e7d22d8e1d3
DTSTAMP:20260421T193821Z
DTSTART:20211201T100000Z
DTEND:20211201T110000Z
LOCATION:
SUMMARY:HÃ³kirÃ¡lynÅ‘
DESCRIPTION:TÃ¡jÃ©koztatjuk kedves nÃ©zÅ‘inket\,  hogy az Ezer Mese SzÃ­nhÃ
 ¡z decemberre meghirdetett elÅ‘adÃ¡sai a COVID nÃ¶vekvÅ‘ betegszÃ¡ma Ã©s a 
 2021. november 1-tÅ‘l hatÃ¡lyba lÃ©pettÂ  szigorÃ­tÃ¡sok miatt elmaradnak. 
 Az elÅ‘adÃ¡sokat tervezetten 2022 tavaszÃ¡n tartjuk meg\,  az eredeti helys
 zÃ­nen. A mÃ¡r megvÃ¡sÃ¡rolt jegyek Ã¡rÃ¡t az Interticket kÃ¼lÃ¶n kÃ©rÃ©s n
 Ã©lkÃ¼l visszautalja. KÃ©rjÃ¼k\,  kÃ­sÃ©rjÃ©k figyelemmel web-\, [..]\nhttp
 s://momkult.hu/events/hokiralyno/
URL:https://momkult.hu/events/hokiralyno/
END:VEVENT
END:VCALENDAR