BEGIN:VCALENDAR
VERSION:2.0
PRODID:-//eventon.com NONSGML v1.0//EN
CALSCALE:GREGORIAN
METHOD:PUBLISH
BEGIN:VEVENT
UID:69e7974edf67d
DTSTAMP:20260421T152710Z
DTSTART:20220225T183000Z
DTEND:20220225T220000Z
LOCATION:
SUMMARY:Cziffra Fesztivál | Bárest
DESCRIPTION:Felhívjuk látogatóink szíves figyelmét\,  hogy a MOMkult 
 pületében a maszkviselés kötelező! „Azt hiszem\,  hogy Szindbád u
 ́r már jobban is szórakozott életében\,  mint a mi tánciskolán
 kban lehet szórakozni. Mi\,  nagyvárosi emberek\,  tudjuk\,  hogy micso
 da válogatott élvezetek vannak a nagyvárosban. A pompás színház
 i előadások\,  hangversenyek\,  a bálok… A mi kis tánciskolánk 
 nyomába[..]\nhttps://momkult.hu/events/barest-3/
URL:https://momkult.hu/events/barest-3/
END:VEVENT
END:VCALENDAR