BEGIN:VCALENDAR
VERSION:2.0
PRODID:-//eventon.com NONSGML v1.0//EN
CALSCALE:GREGORIAN
METHOD:PUBLISH
BEGIN:VEVENT
UID:69e7e7d474604
DTSTAMP:20260421T211044Z
DTSTART:20211128T180000Z
DTEND:20211128T200000Z
LOCATION:
SUMMARY:RHAPSODY IN BLUE I
DESCRIPTION:FelhÃ­vjuk lÃ¡togatÃ³ink szÃ­ves figyelmÃ©t\,  hogy a MOMkult Ã
 ©pÃ¼letÃ©ben a maszkviselÃ©s kÃ¶telezÅ‘! Az est programjÃ¡ban kÃ¶nnyÅ±zenei
  vÃ¡logatÃ¡st hallhatnak az 1920-as\,  1930-as Ã©vek slÃ¡gereibÅ‘l\,  valam
 int felcsendÃ¼l Gershwin Ã¶rÃ¶kbecsÅ± darabja\,  a Rhapsody in Blue. Az Egy
 Ã¼ttes vendÃ©gekÃ©nt a koncerten fellÃ©p a nÃ©pszerÅ± Ã©s nemzetkÃ¶zileg is
  mÃ©ltÃ¡n elismert\,  Kossuth-dÃ­jjal kitÃ¼ntetett Hot Jazz Band. Az[..]\nh
 ttps://momkult.hu/events/az-eotvos-lorand-tudomanyegyetem-muveszeti-egyutte
 s/
URL:https://momkult.hu/events/az-eotvos-lorand-tudomanyegyetem-muveszeti-egyuttes/
END:VEVENT
END:VCALENDAR