BEGIN:VCALENDAR
VERSION:2.0
PRODID:-//eventon.com NONSGML v1.0//EN
CALSCALE:GREGORIAN
METHOD:PUBLISH
BEGIN:VEVENT
UID:69e7d2287a3bb
DTSTAMP:20260421T193816Z
DTSTART:20211206T193000Z
DTEND:20211206T210000Z
LOCATION:
SUMMARY:LÃ©gy fÃ©rfi! | HadhÃ¡zi LÃ¡szlÃ³ Ã¶nÃ¡llÃ³ estje\,  mÅ±sorvezetÅ‘: Musimbe Dennis
DESCRIPTION:FelhÃ­vjuk lÃ¡togatÃ³ink szÃ­ves figyelmÃ©t\,  hogy a MOMkult Ã
 ©pÃ¼letÃ©ben a maszkviselÃ©s kÃ¶telezÅ‘! Tisztelt LÃ¡togatÃ³ink! Az elÅ‘adÃ
 ¡s a MOM KulturÃ¡lis KÃ¶zpont elÅ‘re meghirdetett\,  belÃ©pÅ‘jegyes\,  Ã¼lt
 etett\,  kulturÃ¡lis/mÅ±vÃ©szeti esemÃ©nye\,  Ã­gy vÃ©dettsÃ©gi igazolvÃ¡ny
  nÃ©lkÃ¼l is lÃ¡togathatÃ³. EgyÃ¼ttmÅ±kÃ¶dÃ©sÃ¼ket kÃ¶szÃ¶njÃ¼k! â€”â€”â€”â
 €”â€”â€”â€“ Kik azok a hapsik\,  Ã©s hovÃ¡ tartanak? Mi az a fÃ©rfias visel
 kedÃ©s Ã©s kinek jÃ³ az?[..]\nhttps://momkult.hu/events/legy-ferfi-hadhazi-
 laszlo-onallo-estje-musorvezeto-musimbe-dennis-ii/
URL:https://momkult.hu/events/legy-ferfi-hadhazi-laszlo-onallo-estje-musorvezeto-musimbe-dennis-ii/
END:VEVENT
END:VCALENDAR