BEGIN:VCALENDAR
VERSION:2.0
PRODID:-//eventon.com NONSGML v1.0//EN
CALSCALE:GREGORIAN
METHOD:PUBLISH
BEGIN:VEVENT
UID:69e7d2287a3bb
DTSTAMP:20260421T193816Z
DTSTART:20211211T180000Z
DTEND:20211211T200000Z
LOCATION:
SUMMARY:POKET KARÁCSONY II 2021
DESCRIPTION:Felhívjuk látogatóink szíves figyelmét\,  hogy a MOMkult 
 pületében a maszkviselés kötelező! Ünnepeljük idén is közösen az
  év végét! Itt lesz velünk Beck Zoli\,  Grecsó Krisztián\,  Vecsei H.
  Miklós és a Csoóri Sándor csapat és még nagyon sokan mások&#8230; T
 alálkozzunk a MOMKultban december 11-én! További részletek és jegyinfo
 rmáció hamarosan! Tájékoztatjuk látogatóinkat\, [..]\nhttps://momkult
 .hu/events/poket-karacsony/
URL:https://momkult.hu/events/poket-karacsony/
END:VEVENT
END:VCALENDAR