BEGIN:VCALENDAR
VERSION:2.0
PRODID:-//eventon.com NONSGML v1.0//EN
CALSCALE:GREGORIAN
METHOD:PUBLISH
BEGIN:VEVENT
UID:69e7be5658ff5
DTSTAMP:20260421T181342Z
DTSTART:20211231T190000Z
DTEND:20211231T203000Z
LOCATION:
SUMMARY:CsÃ¡nyi SÃ¡ndor szÃ­nhÃ¡zi estje | Hogyan Ã©rtsÃ¼k fÃ©lre a nÅ‘ket?
DESCRIPTION:Tisztelt LÃ¡togatÃ³ink! Az elmaradÃ³ elÅ‘adÃ¡s kapcsÃ¡n tesszÃ¼
 k kÃ¶zzÃ© a CsÃ¡nyi SÃ¡ndor ProdukciÃ³ kÃ¶zlemÃ©nyÃ©t. Kedves NÃ©zÅ‘ink! TÃ
 ¡jÃ©koztatjuk Ã–nÃ¶ket\,  hogy a 2021. december 31-Ã©re meghirdetett Hogyan
  Ã©rtsÃ¼k fÃ©lre a nÅ‘ket? â€“ CsÃ¡nyi SÃ¡ndor egyszemÃ©lyes vÃ­gjÃ¡tÃ©ka c
 Ã­mÅ± produkciÃ³k kÃ¶zÃ¼l a 17 Ã³rakor kezdÅ‘dÅ‘ elÅ‘adÃ¡st van lehetÅ‘sÃ©g
 Ã¼nk megtartani. A 20 Ã³rai elÅ‘adÃ¡sra a MOMkult[..]\nhttps://momkult.hu/e
 vents/csanyi-sandor-szinhazi-estje-hogyan-ertsuk-felre-a-noket-december-31-
 2/
URL:https://momkult.hu/events/csanyi-sandor-szinhazi-estje-hogyan-ertsuk-felre-a-noket-december-31-2/
END:VEVENT
END:VCALENDAR