BEGIN:VCALENDAR
VERSION:2.0
PRODID:-//eventon.com NONSGML v1.0//EN
CALSCALE:GREGORIAN
METHOD:PUBLISH
BEGIN:VEVENT
UID:69eb9de70a830
DTSTAMP:20260424T164423Z
DTSTART:20181015T180000Z
DTEND:20181015T193000Z
LOCATION:
SUMMARY:Szakcsi Jr. 50
DESCRIPTION:MagyarorszÃ¡g jazz-zongorista nagyhatalom. Jazz zongorista hata
 lmassÃ¡gok kÃ¶zÃ¶tt is az Ã©lbolyba tartozni komoly minÅ‘sÃ©g. Ifj. Szakcsi
  Lakatos BÃ©la besorolÃ¡sÃ¡t ebbe a billentyÅ±s elit kommandÃ³ba nem a nevÃ
 ©nek kÃ¶szÃ¶nheti\,  hiszen nem is nagynevÅ± Ã©desapja ÃºtjÃ¡t jÃ¡rja\,  ha
 nem a sajÃ¡tjÃ¡t. A kivÃ¡lÃ³ modern zongorista bizonyÃ­tja\,  hogy mennyi Ã
 ºjÃ­tÃ¡si lehetÅ‘sÃ©g rejlik a mÅ±faj legnemesebb[..]\nhttps://momkult.hu/e
 vents/szakcsi-jr-50/
URL:https://momkult.hu/events/szakcsi-jr-50/
END:VEVENT
END:VCALENDAR