BEGIN:VCALENDAR
VERSION:2.0
PRODID:-//eventon.com NONSGML v1.0//EN
CALSCALE:GREGORIAN
METHOD:PUBLISH
BEGIN:VEVENT
UID:69e80ca5c0ab7
DTSTAMP:20260421T234749Z
DTSTART:20211006T160000Z
DTEND:20211006T173000Z
LOCATION:
SUMMARY:Hitel-est
DESCRIPTION:\nhttps://momkult.hu/events/hitel-est-oktober-6/
URL:https://momkult.hu/events/hitel-est-oktober-6/
END:VEVENT
END:VCALENDAR