BEGIN:VCALENDAR
VERSION:2.0
PRODID:-//eventon.com NONSGML v1.0//EN
CALSCALE:GREGORIAN
METHOD:PUBLISH
BEGIN:VEVENT
UID:69e7fabc4985c
DTSTAMP:20260421T223124Z
DTSTART:20211020T160000Z
DTEND:20211020T190000Z
LOCATION:
SUMMARY:Kollázs workshop Coco Chanel szellemében!
DESCRIPTION:A vagány divattervező nemcsak ruháiról és parfümjeiről v
 olt híres. Frappáns kijelentései a divatról\,  nőről\,  stílusról k
 örbejárták az egész világot. A workshop során a foglakozást vezető 
 által tervezett nyomtatott lapok\,  sablonok és kompozíciós térképek\
 ,  valamint dekoratív papírok és minden egyéb díszítéshez szüksége
 s kellékek állnak rendelkezésre – ebből készülnek majd lealapozott 
 farostlemezekre[..]\nhttps://momkult.hu/events/kollazs-workshop-coco-chanel
 -szellemeben/
URL:https://momkult.hu/events/kollazs-workshop-coco-chanel-szellemeben/
END:VEVENT
END:VCALENDAR