BEGIN:VCALENDAR
VERSION:2.0
PRODID:-//eventon.com NONSGML v1.0//EN
CALSCALE:GREGORIAN
METHOD:PUBLISH
BEGIN:VEVENT
UID:69e80e1ca0437
DTSTAMP:20260421T235404Z
DTSTART:20211004T160000Z
DTEND:20211004T180000Z
LOCATION:
SUMMARY:Itália hangjai
DESCRIPTION:a Solti György Zeneiskola és a Divertimento Kamarazenekar han
 gversenye a Zene Világnapja alkalmábólVezényel: Bolyky Zoltán\nhttps:/
 /momkult.hu/events/italia-hangjai/
URL:https://momkult.hu/events/italia-hangjai/
END:VEVENT
END:VCALENDAR