BEGIN:VCALENDAR
VERSION:2.0
PRODID:-//eventon.com NONSGML v1.0//EN
CALSCALE:GREGORIAN
METHOD:PUBLISH
BEGIN:VEVENT
UID:69eb9e7c05b81
DTSTAMP:20260424T164652Z
DTSTART:20181008T190000Z
DTEND:20181008T203000Z
LOCATION:
SUMMARY:Magyar TáncRapszódia
DESCRIPTION:A rapszódia laza szerkezetű\,  gyakran nemzeti-népi motívum
 okra épülő\,  fantáziaszerű kompozíció. Jellemzője az érzelmek\,  
 gondolatok szenvedélyes hullámzása\,  a kifejezés szabadsága. Vári Be
 rtalan\,  a hazánkban és nemzetközi porondon egyaránt elismert táncmű
 vész és koreográfus által komponált\,  komoly mesterségbeli tudást k
 ívánó táncokat az együttes tagjai könnyed eleganciával adják elő. 
 A professzionális társulat előadásmódját évtizedek[..]\nhttps://momk
 ult.hu/events/magyar-tancrapszodia-varidance/
URL:https://momkult.hu/events/magyar-tancrapszodia-varidance/
END:VEVENT
END:VCALENDAR