BEGIN:VCALENDAR
VERSION:2.0
PRODID:-//eventon.com NONSGML v1.0//EN
CALSCALE:GREGORIAN
METHOD:PUBLISH
BEGIN:VEVENT
UID:69e7d1dfab7bf
DTSTAMP:20260421T193703Z
DTSTART:20211214T190000Z
DTEND:20211214T210000Z
LOCATION:
SUMMARY:MARIO BIONDI
DESCRIPTION:Mario Biondi koncertje 2021. december 14. helyett egy új időp
 ontra kerül át\,  mert a turné további decemberi állomásait az európ
 ai korlátozások miatt elhalasztották. Az egyeztetések már tartanak a 2
 022-es dátumról. Amint van új időpontja a koncertnek\,  tájékoztatá
 st küldünk róla. ____________________________________________ Felhívjuk
  látogatóink szíves figyelmét\,  hogy a MOMkult épületében a maszkvi
 selés kötelező![..]\nhttps://momkult.hu/events/mario-biondi/
URL:https://momkult.hu/events/mario-biondi/
END:VEVENT
END:VCALENDAR