BEGIN:VCALENDAR
VERSION:2.0
PRODID:-//eventon.com NONSGML v1.0//EN
CALSCALE:GREGORIAN
METHOD:PUBLISH
BEGIN:VEVENT
UID:69e7e7a5b45fb
DTSTAMP:20260421T210957Z
DTSTART:20211124T190000Z
DTEND:20211124T210000Z
LOCATION:
SUMMARY:MAZSIMÓ GIPSYMÓ
DESCRIPTION:Tájékoztatjuk látogatóinkat\,  hogy a november 24-i MazsiM
 ó GipsyMó koncert elhalasztva\,  későbbi időpontban kerül megtartásr
 a. Észrevételeikkel és további információkért\,  kérjük\,  fordulj
 anak a koncertet szervező cég felé: Get Closer Concerts Kft. hello@getcl
 oserconcerts.com Együttműködésüket és megértésüket megköszönve\,
   MOMkult &#8212;&#8212;&#8212;&#8212;&#8212;&#8212;&#8212;&#8212;&#8212;&#
 8212;&#8212;&#8212;&#8212;&#8212;&#8212;&#8212;&#8212;&#8212;&#8212;&#8212;
 &#8212;&#8212;&#8212;&#8212;&#8212;&#8212;&#8212;&#8212;&#8212;&#8212;&#821
 2;&#8212;&#8212;&#8212;&#8212;&#8212;&#8212;&#8212;&#8212;&#8212;&#8212;&#8
 212;&#8212;&#8212;&#8212;&#8212;&#8212;&#8212;&#8212;&#8212;&#8211; Felhív
 juk látogatóink szíves figyelmét\,  hogy a MOMkult épületében a masz
 kviselés kötelező! Egyszerre megszólaló tíz gitár[..]\nhttps://momku
 lt.hu/events/mazsimo-gipsymo/
URL:https://momkult.hu/events/mazsimo-gipsymo/
END:VEVENT
END:VCALENDAR