BEGIN:VCALENDAR
VERSION:2.0
PRODID:-//eventon.com NONSGML v1.0//EN
CALSCALE:GREGORIAN
METHOD:PUBLISH
BEGIN:VEVENT
UID:69e7e790f00a8
DTSTAMP:20260421T210936Z
DTSTART:20211116T194500Z
DTEND:20211116T213000Z
LOCATION:
SUMMARY:AMBROSE AKINMUSIRE QUARTET | GETCLOSER JAZZ FEST
DESCRIPTION:FelhÃ­vjuk lÃ¡togatÃ³ink szÃ­ves figyelmÃ©t\,  hogy a MOMkult Ã
 ©pÃ¼letÃ©ben a maszkviselÃ©s kÃ¶telezÅ‘! Azt mondani\,  hogy Ambrose Akinmu
 sire a generÃ¡ciÃ³ja egyik legizgalmasabb trombitÃ¡sa\,  alulÃ©rtÃ©kelÃ©s. 
 Ambrose Akinmusire nemcsak kiemelkedÅ‘ hangszeres\,  hanem a zenÃ©rÅ‘l konc
 epcionÃ¡lisan gondolkodÃ³\,  kÃ­sÃ©rletezÅ‘ muzsikus. TehetsÃ©gÃ©re elÅ‘szÃ
 ¶r Steve Coleman szaxofonos figyelt fel\,  aki egybÅ‘l meghÃ­vta zenekarÃ¡b
 a. 19 Ã©ves\,  amikor megjelenik elsÅ‘[..]\nhttps://momkult.hu/events/ambro
 se-akinmusire-quartet-getcloser-jazz-fest/
URL:https://momkult.hu/events/ambrose-akinmusire-quartet-getcloser-jazz-fest/
END:VEVENT
END:VCALENDAR