BEGIN:VCALENDAR
VERSION:2.0
PRODID:-//eventon.com NONSGML v1.0//EN
CALSCALE:GREGORIAN
METHOD:PUBLISH
BEGIN:VEVENT
UID:69e7e6e60b093
DTSTAMP:20260421T210646Z
DTSTART:20211110T190000Z
DTEND:20211110T210000Z
LOCATION:
SUMMARY:RYMDEN
DESCRIPTION:A MOMkult Ã©pÃ¼letÃ©ben a maszkviselÃ©s kÃ¶telezÅ‘. RYMDEN\,  e
 gy Ãºj supergroup SkandinÃ¡viÃ¡bÃ³l. Az 1993-tÃ³l 2008-ig\,  a zenekarvezet
 Å‘ tragikus halÃ¡lÃ¡ig EurÃ³pa egyik legmeghatÃ¡rozÃ³bb jazz zenekara volt 
 az EsbjÃ¶rn Svensson Trio (e.s.t). A zenekar ritmusszekciÃ³jÃ¡t alkotÃ³ svÃ
 ©d zenÃ©szek\,  Dan Berglund (bÅ‘gÅ‘) Ã©s Magnus Ã–strÃ¶m (dobok) a szintÃ©
 n vilÃ¡ghÃ­rÅ± norvÃ©g zongoristÃ¡val\,  Bugge Wesseltoft-tal kiegÃ©szÃ¼lve
 [..]\nhttps://momkult.hu/events/rymden/
URL:https://momkult.hu/events/rymden/
END:VEVENT
END:VCALENDAR