BEGIN:VCALENDAR
VERSION:2.0
PRODID:-//eventon.com NONSGML v1.0//EN
CALSCALE:GREGORIAN
METHOD:PUBLISH
BEGIN:VEVENT
UID:69e7fad9d23e4
DTSTAMP:20260421T223153Z
DTSTART:20211102T190000Z
DTEND:20211102T210000Z
LOCATION:
SUMMARY:RICHARD BONA & ALFREDO RODRIGUEZ BAND
DESCRIPTION:A kritikusok nehezen találnak fogást Richard Bona zenéjén\,
   ami Jaco Pastorious virtuozitását\,  George Benson stílusát és Joao 
 Gilberto énekesi teljesítményét idézi\,  és mindezt az afrikai zenei 
 hagyományokkal elegyíti. Richard Bona bátran kísérletezik\,  nem ismer
 i a stílus és műfaji határokat. Zenéje egyaránt izgalmas jazz és a b
 lues rajongók\,  a popzene\,  a[..]\nhttps://momkult.hu/events/richard-bon
 a-alfredo-rodriguez-band/
URL:https://momkult.hu/events/richard-bona-alfredo-rodriguez-band/
END:VEVENT
END:VCALENDAR