BEGIN:VCALENDAR
VERSION:2.0
PRODID:-//eventon.com NONSGML v1.0//EN
CALSCALE:GREGORIAN
METHOD:PUBLISH
BEGIN:VEVENT
UID:69e7f95b3b754
DTSTAMP:20260421T222531Z
DTSTART:20211025T180000Z
DTEND:20211025T200000Z
LOCATION:
SUMMARY:LAS MIGAS
DESCRIPTION:Ã–t gyÃ¶nyÃ¶rÅ± hÃ¶lgy\,  flamenco ritmus Ã©s Ã©rzÃ©ki koreogrÃ
 ¡fia. Ez a spanyol Las Migas. A Las Migast alkotÃ³ hÃ¶lgyek SpanyolorszÃ¡g 
 nÃ©gy kÃ¼lÃ¶nbÃ¶zÅ‘ tÃ¡jÃ¡rÃ³l\,  kÃ¼lÃ¶nbÃ¶zÅ‘ kultÃºrÃ¡jÃº vÃ¡rosÃ¡bÃ³l s
 zÃ¡rmaznak\,  mÃ©gis kÃ¶zÃ¶s a szenvedÃ©lyÃ¼k\,  a flamenco. Koncertjeiken 
 feszes latin ritmusok\,  gitÃ¡r- Ã©s hegedÅ±szÃ³lÃ³k\,  valamint erÅ‘teljes
  Ã©nekhang tÃ¶lti be a szÃ­npadot. A 2016-ban megjelent harmadik[..]\nhttps
 ://momkult.hu/events/las-migas-getcloser-jazz-fest/
URL:https://momkult.hu/events/las-migas-getcloser-jazz-fest/
END:VEVENT
END:VCALENDAR