BEGIN:VCALENDAR
VERSION:2.0
PRODID:-//eventon.com NONSGML v1.0//EN
CALSCALE:GREGORIAN
METHOD:PUBLISH
BEGIN:VEVENT
UID:69e7fabc24d8d
DTSTAMP:20260421T223124Z
DTSTART:20211024T180000Z
DTEND:20211024T200000Z
LOCATION:
SUMMARY:ANOUAR BRAHEM QUARTET | GETCLOSER JAZZ FEST
DESCRIPTION:Anouar Brahem az arab klasszikus muzsika nagymestere. Hangszere
 \,  az oud finomsÃ¡gÃ¡t a modern jazz harmÃ³niÃ¡ival Ã¶tvÃ¶zi. Anouar Brahe
 met mindig is vonzotta a jazz\,  ismert jazz muzsikusokkal is alkotott egyÃ
 ¼tt: Jan Garbarekkel (szaxofon) Ã©s Ustad Shaukat Hussainnal (tabla) kÃ©szÃ
 ­tett kÃ¶zÃ¶sen lemezt\,  de dolgozott egyÃ¼tt Dave Hollanddal Ã©s John Sur
 mannal is. Ezek[..]\nhttps://momkult.hu/events/anouar-brahem-quartet-getclo
 ser-jazz-fest/
URL:https://momkult.hu/events/anouar-brahem-quartet-getcloser-jazz-fest/
END:VEVENT
END:VCALENDAR