BEGIN:VCALENDAR
VERSION:2.0
PRODID:-//eventon.com NONSGML v1.0//EN
CALSCALE:GREGORIAN
METHOD:PUBLISH
BEGIN:VEVENT
UID:69e7fcc977987
DTSTAMP:20260421T224009Z
DTSTART:20211019T180000Z
DTEND:20211019T203000Z
LOCATION:
SUMMARY:MIKE STERN & BILL EVANS BAND I GETCLOSER JAZZ FEST
DESCRIPTION:Minden túlzás nélkül kijelenthetjük\,  hogy ismét egy sup
 ergroup lép színpadra. Mike Stern talán a bolygó legmosolygósabb gitá
 rosa\,  olykor líraian pengeti a húrokat\,  mint Jim Hall\,  máskor swin
 gesen\,  mint Wes Montgomery\,  vagy hatalmas energiákkal\,  mint Jimi Hen
 drix. Ezek után nem véletlen\,  hogy a legnagyobbak hívták a zenekarukb
 a\,  mint Miles Davis\,  Billy[..]\nhttps://momkult.hu/events/mike-stern-bi
 ll-evans-band-getcloser-jazz-fest/
URL:https://momkult.hu/events/mike-stern-bill-evans-band-getcloser-jazz-fest/
END:VEVENT
END:VCALENDAR