BEGIN:VCALENDAR
VERSION:2.0
PRODID:-//eventon.com NONSGML v1.0//EN
CALSCALE:GREGORIAN
METHOD:PUBLISH
BEGIN:VEVENT
UID:69e80e3cd890c
DTSTAMP:20260421T235436Z
DTSTART:20210928T184500Z
DTEND:20210928T203000Z
LOCATION:
SUMMARY:PER MATHISEN & MOGYORÓ KORNÉL FEAT. NGUYEN LE\,  GARY HUSBAND | GETCLOSER JAZZ FEST
DESCRIPTION:Per “The Bass Viking” Mathisen\,  legendás norvég basszus
 gitáros és Mogyoró Kornél ütőhangszeres – aki négy alkalommal nyer
 te el a Magyarország legjobb ütőhangszerese címet- immáron négyéves 
 közös zenei múltra tekinthet vissza. Ez a közös utazás a Per Mathisen
 ’s Heavy Weather zenekarban kezdődött. A zenekar azóta is aktív\,  20
 18-ban megjelent Gratitude Overload[..]\nhttps://momkult.hu/events/per-math
 isen-mogyoro-kornel-getcloser-jazz-fest/
URL:https://momkult.hu/events/per-mathisen-mogyoro-kornel-getcloser-jazz-fest/
END:VEVENT
END:VCALENDAR