BEGIN:VCALENDAR
VERSION:2.0
PRODID:-//eventon.com NONSGML v1.0//EN
CALSCALE:GREGORIAN
METHOD:PUBLISH
BEGIN:VEVENT
UID:69e80c5378f5e
DTSTAMP:20260421T234627Z
DTSTART:20210927T184500Z
DTEND:20210927T200000Z
LOCATION:
SUMMARY:SHAI MAESTRO | GETCLOSER JAZZ FEST
DESCRIPTION:Shai Maestro\,  nemzedéke egyik legígéretesebb és legtehets
 égesebb zongoristája. Különleges zenei világában a tradicionális jaz
 z találkozik a kortárs zeneszerzés és improvizáció formabontó elemei
 vel. Shai Maestro 2006-ban csatlakozott a világhírű izraeli bőgős\,  A
 vishai Cohen zenekarához. Az összes jelentős hangversenyteremben és fes
 ztiválon megfordult velük\,  és négy albumukon zongorázott\,  melyek k
 özül kettő a legendás[..]\nhttps://momkult.hu/events/shai-maestro-getcl
 oser-jazz-fest/
URL:https://momkult.hu/events/shai-maestro-getcloser-jazz-fest/
END:VEVENT
END:VCALENDAR